BEGIN:VCALENDAR
VERSION:2.0
CREATED:20260423T230504Z
PRODID:-//Birchtech Corp./Equisolve Calendar v1.0//EN
METHOD:PUBLISH
BEGIN:VEVENT
UID:8c5f0ee4011e062eff4f6dc71b2c0335
DTSTAMP:20260424T120211Z
DTSTART:20260504T000000
DTEND:20260506T000000
SUMMARY:PA Section\, AWWA Technical Conference
DESCRIPTION:PA Section\, AWWA Technical Conference\nDate: May 4 – May 6\, 2026\nState College\, Pennsylvania
LOCATION:State College\, Pennsylvania
END:VEVENT
END:VCALENDAR
